BEGIN:VCALENDAR
VERSION:2.0
PRODID:-//eventon.com NONSGML v1.0//EN
CALSCALE:GREGORIAN
METHOD:PUBLISH
BEGIN:VEVENT
UID:69e7c987a2633
DTSTAMP:20260422T020127
DTSTART:20201205T170000Z
DTEND:20201205T170000Z
TZID:Asia/Bangkok
LOCATION:ระยอง 
SUMMARY:Bk Road Run of Dream Minimarathon 2020
DESCRIPTION: Bk Road Run of Dream Minimarathon 2020\nhttps://patrunning.com/events/bk-road-run-of-dream-minimarathon-2020/
URL:https://patrunning.com/events/bk-road-run-of-dream-minimarathon-2020/
END:VEVENT
END:VCALENDAR