BEGIN:VCALENDAR
VERSION:2.0
PRODID:-//eventon.com NONSGML v1.0//EN
CALSCALE:GREGORIAN
METHOD:PUBLISH
BEGIN:VEVENT
UID:69e76b399e768
DTSTAMP:20260421T191905
DTSTART:20201212T170000Z
DTEND:20201212T170000Z
TZID:Asia/Bangkok
LOCATION:ประจวบคีรีขันธ์ 
SUMMARY:Daybreak Beach Run @Hua Hin
DESCRIPTION: Daybreak Beach Run @Hua Hin\nhttps://patrunning.com/events/daybreak-beach-run-hua-hin/
URL:https://patrunning.com/events/daybreak-beach-run-hua-hin/
END:VEVENT
END:VCALENDAR