BEGIN:VCALENDAR
VERSION:2.0
PRODID:-//eventon.com NONSGML v1.0//EN
CALSCALE:GREGORIAN
METHOD:PUBLISH
BEGIN:VEVENT
UID:69e811028bcb7
DTSTAMP:20260422T070626
DTSTART:20201212T170000Z
DTEND:20201212T170000Z
TZID:Asia/Bangkok
LOCATION:นครราชสีมา 
SUMMARY:โคราชฮาล์ฟมาราธอนลอยฟ้า ครั้งที่ 9
DESCRIPTION: โคราชฮาล์ฟมาราธอนลอยฟ้า ครั้งที่ 9\nhttps://patrunning.com/events/%e0%b9%82%e0%b8%84%e0%b8%a3%e0%b8%b2%e0%b8%8a%e0%b8%ae%e0%b8%b2%e0%b8%a5%e0%b9%8c%e0%b8%9f%e0%b8%a1%e0%b8%b2%e0%b8%a3%e0%b8%b2%e0%b8%98%e0%b8%ad%e0%b8%99%e0%b8%a5%e0%b8%ad%e0%b8%a2%e0%b8%9f%e0%b9%89-2/
URL:https://patrunning.com/events/%e0%b9%82%e0%b8%84%e0%b8%a3%e0%b8%b2%e0%b8%8a%e0%b8%ae%e0%b8%b2%e0%b8%a5%e0%b9%8c%e0%b8%9f%e0%b8%a1%e0%b8%b2%e0%b8%a3%e0%b8%b2%e0%b8%98%e0%b8%ad%e0%b8%99%e0%b8%a5%e0%b8%ad%e0%b8%a2%e0%b8%9f%e0%b9%89-2/
END:VEVENT
END:VCALENDAR