BEGIN:VCALENDAR
VERSION:2.0
PRODID:-//eventon.com NONSGML v1.0//EN
CALSCALE:GREGORIAN
METHOD:PUBLISH
BEGIN:VEVENT
UID:69e7c957aea99
DTSTAMP:20260422T020039
DTSTART:20201212T170000Z
DTEND:20201212T170000Z
TZID:Asia/Bangkok
LOCATION:ระยอง 
SUMMARY:Vdcr.1 Khao Ang Challenge Run 2020
DESCRIPTION: Vdcr.1 Khao Ang Challenge Run 2020\nhttps://patrunning.com/events/vdcr-1-khao-ang-challenge-run-2020/
URL:https://patrunning.com/events/vdcr-1-khao-ang-challenge-run-2020/
END:VEVENT
END:VCALENDAR