BEGIN:VCALENDAR
VERSION:2.0
PRODID:-//eventon.com NONSGML v1.0//EN
CALSCALE:GREGORIAN
METHOD:PUBLISH
BEGIN:VEVENT
UID:69e7c94e8cb09
DTSTAMP:20260422T020030
DTSTART:20201218T170000Z
DTEND:20201218T170000Z
TZID:Asia/Bangkok
LOCATION:ระยอง 
SUMMARY:PEAK Night Run 2020
DESCRIPTION: PEAK Night Run 2020\nhttps://patrunning.com/events/peak-night-run-2020/
URL:https://patrunning.com/events/peak-night-run-2020/
END:VEVENT
END:VCALENDAR