BEGIN:VCALENDAR
VERSION:2.0
PRODID:-//eventon.com NONSGML v1.0//EN
CALSCALE:GREGORIAN
METHOD:PUBLISH
BEGIN:VEVENT
UID:69e82a215b4e7
DTSTAMP:20260422T085337
DTSTART:20210522T170000Z
DTEND:20210522T170000Z
TZID:Asia/Bangkok
LOCATION:นครราชสีมา 
SUMMARY:เดิน-วิ่งเพื่อการศึกษา โชคชัย 2 มินิมาราธอน 2020 (เลื่อนรอกำหนดใหม่)
DESCRIPTION: เดิน-วิ่งเพื่อการศึกษา โชคชัย 2 มินิมาราธอน 2020 (เลื่อนรอกำหนดใหม่)\nhttps://patrunning.com/events/%e0%b9%80%e0%b8%94%e0%b8%b4%e0%b8%99-%e0%b8%a7%e0%b8%b4%e0%b9%88%e0%b8%87%e0%b9%80%e0%b8%9e%e0%b8%b7%e0%b9%88%e0%b8%ad%e0%b8%81%e0%b8%b2%e0%b8%a3%e0%b8%a8%e0%b8%b6%e0%b8%81%e0%b8%a9%e0%b8%b2-2/
URL:https://patrunning.com/events/%e0%b9%80%e0%b8%94%e0%b8%b4%e0%b8%99-%e0%b8%a7%e0%b8%b4%e0%b9%88%e0%b8%87%e0%b9%80%e0%b8%9e%e0%b8%b7%e0%b9%88%e0%b8%ad%e0%b8%81%e0%b8%b2%e0%b8%a3%e0%b8%a8%e0%b8%b6%e0%b8%81%e0%b8%a9%e0%b8%b2-2/
END:VEVENT
END:VCALENDAR