BEGIN:VCALENDAR
VERSION:2.0
PRODID:-//eventon.com NONSGML v1.0//EN
CALSCALE:GREGORIAN
METHOD:PUBLISH
BEGIN:VEVENT
UID:69e7c99dc4f44
DTSTAMP:20260422T020149
DTSTART:20210919T110000Z
DTEND:20210919T110000Z
TZID:Pacific/Midway
LOCATION:ระยอง 
SUMMARY:Columbia Trail Masters 2021 (เลื่อนไป 17 ก.ค.65)
DESCRIPTION: Columbia Trail Masters 2021 (เลื่อนไป 17 ก.ค.65)\nhttps://patrunning.com/events/columbia-trail-masters-2021-2/
URL:https://patrunning.com/events/columbia-trail-masters-2021-2/
END:VEVENT
END:VCALENDAR