BEGIN:VCALENDAR
VERSION:2.0
PRODID:-//eventon.com NONSGML v1.0//EN
CALSCALE:GREGORIAN
METHOD:PUBLISH
BEGIN:VEVENT
UID:69e7c986ed963
DTSTAMP:20260422T020126
DTSTART:20210627T110000Z
DTEND:20210627T110000Z
TZID:Pacific/Midway
LOCATION:ระยอง 
SUMMARY:Peak Mountain Khao Yaida Trail 2020 (เลื่อนไป 27 ก.พ.65))
DESCRIPTION: Peak Mountain Khao Yaida Trail 2020 (เลื่อนไป 27 ก.พ.65))\nhttps://patrunning.com/events/peak-mountain-khao-yaida-trail-2020/
URL:https://patrunning.com/events/peak-mountain-khao-yaida-trail-2020/
END:VEVENT
END:VCALENDAR