BEGIN:VCALENDAR
VERSION:2.0
PRODID:-//eventon.com NONSGML v1.0//EN
CALSCALE:GREGORIAN
METHOD:PUBLISH
BEGIN:VEVENT
UID:69e7c98727e01
DTSTAMP:20260422T020127
DTSTART:20220821T110000Z
DTEND:20220821T110000Z
TZID:Pacific/Midway
LOCATION:ระยอง 
SUMMARY:Aloha Lady Run 2020 Season 3
DESCRIPTION: Aloha Lady Run 2020 Season 3\nhttps://patrunning.com/events/aloha-lady-run-2020-season-3/
URL:https://patrunning.com/events/aloha-lady-run-2020-season-3/
END:VEVENT
END:VCALENDAR