BEGIN:VCALENDAR
VERSION:2.0
PRODID:-//eventon.com NONSGML v1.0//EN
CALSCALE:GREGORIAN
METHOD:PUBLISH
BEGIN:VEVENT
UID:69e7850a24f03
DTSTAMP:20260421T210914
DTSTART:20220212T110000Z
DTEND:20220213T110000Z
TZID:Pacific/Midway
LOCATION:ประจวบคีรีขันธ์ 
SUMMARY:Hua Hin Women’s Half Marathon
DESCRIPTION: Hua Hin Women’s Half Marathon\nhttps://patrunning.com/events/hua-hin-womens-half-marathon-2/
URL:https://patrunning.com/events/hua-hin-womens-half-marathon-2/
END:VEVENT
END:VCALENDAR