BEGIN:VCALENDAR
VERSION:2.0
PRODID:-//eventon.com NONSGML v1.0//EN
CALSCALE:GREGORIAN
METHOD:PUBLISH
BEGIN:VEVENT
UID:69e81145956f8
DTSTAMP:20260422T070733
DTSTART:20220522T110000Z
DTEND:20220522T110000Z
TZID:Pacific/Midway
LOCATION:นครราชสีมา 
SUMMARY:DONGMAFAI TRAIL 2021
DESCRIPTION: DONGMAFAI TRAIL 2021\nhttps://patrunning.com/events/dongmafai-trail-2021-3/
URL:https://patrunning.com/events/dongmafai-trail-2021-3/
END:VEVENT
END:VCALENDAR