BEGIN:VCALENDAR
VERSION:2.0
PRODID:-//eventon.com NONSGML v1.0//EN
CALSCALE:GREGORIAN
METHOD:PUBLISH
BEGIN:VEVENT
UID:69e81145489aa
DTSTAMP:20260422T070733
DTSTART:20211211T065900Z
DTEND:20211213T065900Z
TZID:Pacific/Midway
LOCATION:นครราชสีมา 
SUMMARY:Korat Loifaa Marathon 2021
DESCRIPTION: Korat Loifaa Marathon 2021\nhttps://patrunning.com/events/korat-loifaa-marathon-2021/
URL:https://patrunning.com/events/korat-loifaa-marathon-2021/
END:VEVENT
END:VCALENDAR