BEGIN:VCALENDAR
VERSION:2.0
PRODID:-//eventon.com NONSGML v1.0//EN
CALSCALE:GREGORIAN
METHOD:PUBLISH
BEGIN:VEVENT
UID:69e7e27ca7126
DTSTAMP:20260422T034756
DTSTART:20220110T081700Z
DTEND:20220110T081700Z
TZID:Pacific/Midway
LOCATION:ระยอง 
SUMMARY:PEAK DUO ULTRA 2O22
DESCRIPTION: PEAK DUO ULTRA 2O22\nhttps://patrunning.com/events/peak-duo-ultra-2o22/
URL:https://patrunning.com/events/peak-duo-ultra-2o22/
END:VEVENT
END:VCALENDAR