BEGIN:VCALENDAR
VERSION:2.0
PRODID:-//eventon.com NONSGML v1.0//EN
CALSCALE:GREGORIAN
METHOD:PUBLISH
BEGIN:VEVENT
UID:69e82a4370cae
DTSTAMP:20260422T085411
DTSTART:20211205T060700Z
DTEND:20211205T060700Z
TZID:Pacific/Midway
LOCATION:นครราชสีมา 
SUMMARY:วิสาขะปากช่อง มินิมาราธอน ปีที่20
DESCRIPTION: วิสาขะปากช่อง มินิมาราธอน ปีที่20\nhttps://patrunning.com/events/%e0%b8%a7%e0%b8%b4%e0%b8%aa%e0%b8%b2%e0%b8%82%e0%b8%b0%e0%b8%9b%e0%b8%b2%e0%b8%81%e0%b8%8a%e0%b9%88%e0%b8%ad%e0%b8%87-%e0%b8%a1%e0%b8%b4%e0%b8%99%e0%b8%b4%e0%b8%a1%e0%b8%b2%e0%b8%a3%e0%b8%b2%e0%b8%98/
URL:https://patrunning.com/events/%e0%b8%a7%e0%b8%b4%e0%b8%aa%e0%b8%b2%e0%b8%82%e0%b8%b0%e0%b8%9b%e0%b8%b2%e0%b8%81%e0%b8%8a%e0%b9%88%e0%b8%ad%e0%b8%87-%e0%b8%a1%e0%b8%b4%e0%b8%99%e0%b8%b4%e0%b8%a1%e0%b8%b2%e0%b8%a3%e0%b8%b2%e0%b8%98/
END:VEVENT
END:VCALENDAR