BEGIN:VCALENDAR
VERSION:2.0
PRODID:-//eventon.com NONSGML v1.0//EN
CALSCALE:GREGORIAN
METHOD:PUBLISH
BEGIN:VEVENT
UID:69e75954cb4a2
DTSTAMP:20260421T180244
DTSTART:20220101T065700Z
DTEND:20220102T065700Z
TZID:Pacific/Midway
LOCATION:กรุงเทพมหานคร 
SUMMARY:RUN TO 2022 International Mountain Mini-Halfmarathon (เลื่อนไป 1 พ.ค.65)
DESCRIPTION: RUN TO 2022 International Mountain Mini-Halfmarathon (เลื่อนไป 1 พ.ค.65)\nhttps://patrunning.com/events/run-to-2022-international-mountain-mini-halfmarathon/
URL:https://patrunning.com/events/run-to-2022-international-mountain-mini-halfmarathon/
END:VEVENT
END:VCALENDAR