BEGIN:VCALENDAR
VERSION:2.0
PRODID:-//eventon.com NONSGML v1.0//EN
CALSCALE:GREGORIAN
METHOD:PUBLISH
BEGIN:VEVENT
UID:69e78508a8b4e
DTSTAMP:20260421T210912
DTSTART:20220327T074600Z
DTEND:20220328T074600Z
TZID:Pacific/Midway
LOCATION:ประจวบคีรีขันธ์ 
SUMMARY:SCENIC HALF MARATHON PRANBURI 2022
DESCRIPTION: SCENIC HALF MARATHON PRANBURI 2022\nhttps://patrunning.com/events/scenic-half-marathon-pranburi-2022/
URL:https://patrunning.com/events/scenic-half-marathon-pranburi-2022/
END:VEVENT
END:VCALENDAR