BEGIN:VCALENDAR
VERSION:2.0
PRODID:-//eventon.com NONSGML v1.0//EN
CALSCALE:GREGORIAN
METHOD:PUBLISH
BEGIN:VEVENT
UID:69ebc706254d7
DTSTAMP:20260425T023950
DTSTART:20220221T070000Z
DTEND:20220221T070000Z
TZID:Pacific/Midway
LOCATION:นครพนม 
SUMMARY:เดิน วิ่งข้ามโขง นครพนม-คำม่วน มาราธอน Season 4 (เลื่อนไป 19 มื.ย.)
DESCRIPTION: เดิน วิ่งข้ามโขง นครพนม-คำม่วน มาราธอน Season 4 (เลื่อนไป 19 มื.ย.)\nhttps://patrunning.com/events/%e0%b9%80%e0%b8%94%e0%b8%b4%e0%b8%99-%e0%b8%a7%e0%b8%b4%e0%b9%88%e0%b8%87%e0%b8%82%e0%b9%89%e0%b8%b2%e0%b8%a1%e0%b9%82%e0%b8%82%e0%b8%87-%e0%b8%99%e0%b8%84%e0%b8%a3%e0%b8%9e%e0%b8%99%e0%b8%a1-2/
URL:https://patrunning.com/events/%e0%b9%80%e0%b8%94%e0%b8%b4%e0%b8%99-%e0%b8%a7%e0%b8%b4%e0%b9%88%e0%b8%87%e0%b8%82%e0%b9%89%e0%b8%b2%e0%b8%a1%e0%b9%82%e0%b8%82%e0%b8%87-%e0%b8%99%e0%b8%84%e0%b8%a3%e0%b8%9e%e0%b8%99%e0%b8%a1-2/
END:VEVENT
END:VCALENDAR