BEGIN:VCALENDAR
VERSION:2.0
PRODID:-//eventon.com NONSGML v1.0//EN
CALSCALE:GREGORIAN
METHOD:PUBLISH
BEGIN:VEVENT
UID:69e76d7d7f36d
DTSTAMP:20260421T192845
DTSTART:20220305T110000Z
DTEND:20220305T110000Z
TZID:Pacific/Midway
LOCATION:กาฬสินธุ์ 
SUMMARY:เดิน-วิ่ง เส็งกลอง-ร่องคำ มินิมาราธอน 2022 ครั้งที่ 2 (เลื่อนไป 20 มี.ค.65)
DESCRIPTION: เดิน-วิ่ง เส็งกลอง-ร่องคำ มินิมาราธอน 2022 ครั้งที่ 2 (เลื่อนไป 20 มี.ค.65)\nhttps://patrunning.com/events/%e0%b9%80%e0%b8%94%e0%b8%b4%e0%b8%99-%e0%b8%a7%e0%b8%b4%e0%b9%88%e0%b8%87-%e0%b9%80%e0%b8%aa%e0%b9%87%e0%b8%87%e0%b8%81%e0%b8%a5%e0%b8%ad%e0%b8%87-%e0%b8%a3%e0%b9%88%e0%b8%ad%e0%b8%87%e0%b8%84-4/
URL:https://patrunning.com/events/%e0%b9%80%e0%b8%94%e0%b8%b4%e0%b8%99-%e0%b8%a7%e0%b8%b4%e0%b9%88%e0%b8%87-%e0%b9%80%e0%b8%aa%e0%b9%87%e0%b8%87%e0%b8%81%e0%b8%a5%e0%b8%ad%e0%b8%87-%e0%b8%a3%e0%b9%88%e0%b8%ad%e0%b8%87%e0%b8%84-4/
END:VEVENT
END:VCALENDAR