BEGIN:VCALENDAR
VERSION:2.0
PRODID:-//eventon.com NONSGML v1.0//EN
CALSCALE:GREGORIAN
METHOD:PUBLISH
BEGIN:VEVENT
UID:69e829f052942
DTSTAMP:20260422T085248
DTSTART:20220328T065400Z
DTEND:20220328T065400Z
TZID:Pacific/Midway
LOCATION:นครราชสีมา 
SUMMARY:วิ่งการกุศล ลงหลังม้า มาพาวิ่ง Country Road Running 2 ตอน ตะลุยแดนญี่ปุ่น
DESCRIPTION: วิ่งการกุศล ลงหลังม้า มาพาวิ่ง Country Road Running 2 ตอน ตะลุยแดนญี่ปุ่น\nhttps://patrunning.com/events/%e0%b8%a7%e0%b8%b4%e0%b9%88%e0%b8%87%e0%b8%81%e0%b8%b2%e0%b8%a3%e0%b8%81%e0%b8%b8%e0%b8%a8%e0%b8%a5-%e0%b8%a5%e0%b8%87%e0%b8%ab%e0%b8%a5%e0%b8%b1%e0%b8%87%e0%b8%a1%e0%b9%89%e0%b8%b2-%e0%b8%a1%e0%b8%b2/
URL:https://patrunning.com/events/%e0%b8%a7%e0%b8%b4%e0%b9%88%e0%b8%87%e0%b8%81%e0%b8%b2%e0%b8%a3%e0%b8%81%e0%b8%b8%e0%b8%a8%e0%b8%a5-%e0%b8%a5%e0%b8%87%e0%b8%ab%e0%b8%a5%e0%b8%b1%e0%b8%87%e0%b8%a1%e0%b9%89%e0%b8%b2-%e0%b8%a1%e0%b8%b2/
END:VEVENT
END:VCALENDAR