BEGIN:VCALENDAR
VERSION:2.0
PRODID:-//eventon.com NONSGML v1.0//EN
CALSCALE:GREGORIAN
METHOD:PUBLISH
BEGIN:VEVENT
UID:69e82a21d79ec
DTSTAMP:20260422T085337
DTSTART:20220509T080600Z
DTEND:20220509T080600Z
TZID:Pacific/Midway
LOCATION:นครราชสีมา 
SUMMARY:MKR Cross Country
DESCRIPTION: MKR Cross Country\nhttps://patrunning.com/events/mkr-cross-country/
URL:https://patrunning.com/events/mkr-cross-country/
END:VEVENT
END:VCALENDAR