BEGIN:VCALENDAR
VERSION:2.0
PRODID:-//eventon.com NONSGML v1.0//EN
CALSCALE:GREGORIAN
METHOD:PUBLISH
BEGIN:VEVENT
UID:69e7e235641d2
DTSTAMP:20260422T034645
DTSTART:20220516T081200Z
DTEND:20220516T081200Z
TZID:Pacific/Midway
LOCATION:ระยอง 
SUMMARY:สุภัทราแลนด์ รัน 2565
DESCRIPTION: สุภัทราแลนด์ รัน 2565\nhttps://patrunning.com/events/%e0%b8%aa%e0%b8%b8%e0%b8%a0%e0%b8%b1%e0%b8%97%e0%b8%a3%e0%b8%b2%e0%b9%81%e0%b8%a5%e0%b8%99%e0%b8%94%e0%b9%8c-%e0%b8%a3%e0%b8%b1%e0%b8%99-2565/
URL:https://patrunning.com/events/%e0%b8%aa%e0%b8%b8%e0%b8%a0%e0%b8%b1%e0%b8%97%e0%b8%a3%e0%b8%b2%e0%b9%81%e0%b8%a5%e0%b8%99%e0%b8%94%e0%b9%8c-%e0%b8%a3%e0%b8%b1%e0%b8%99-2565/
END:VEVENT
END:VCALENDAR