BEGIN:VCALENDAR
VERSION:2.0
PRODID:-//eventon.com NONSGML v1.0//EN
CALSCALE:GREGORIAN
METHOD:PUBLISH
BEGIN:VEVENT
UID:69e829f015721
DTSTAMP:20260422T085248
DTSTART:20220523T082500Z
DTEND:20220523T082500Z
TZID:Pacific/Midway
LOCATION:นครราชสีมา 
SUMMARY:SAVE ZOO RUN 2022@KORAT Zoo
DESCRIPTION: SAVE ZOO RUN 2022@KORAT Zoo\nhttps://patrunning.com/events/save-zoo-run-2022korat-zoo/
URL:https://patrunning.com/events/save-zoo-run-2022korat-zoo/
END:VEVENT
END:VCALENDAR