BEGIN:VCALENDAR
VERSION:2.0
PRODID:-//eventon.com NONSGML v1.0//EN
CALSCALE:GREGORIAN
METHOD:PUBLISH
BEGIN:VEVENT
UID:69e7e27ccd68b
DTSTAMP:20260422T034756
DTSTART:20220606T092900Z
DTEND:20220606T092900Z
TZID:Pacific/Midway
LOCATION:ระยอง 
SUMMARY:ระยอง ฟรุ๊ต ฟาร์ม รัน 2565
DESCRIPTION: ระยอง ฟรุ๊ต ฟาร์ม รัน 2565\nhttps://patrunning.com/events/%e0%b8%a3%e0%b8%b0%e0%b8%a2%e0%b8%ad%e0%b8%87-%e0%b8%9f%e0%b8%a3%e0%b8%b8%e0%b9%8a%e0%b8%95-%e0%b8%9f%e0%b8%b2%e0%b8%a3%e0%b9%8c%e0%b8%a1-%e0%b8%a3%e0%b8%b1%e0%b8%99-2565/
URL:https://patrunning.com/events/%e0%b8%a3%e0%b8%b0%e0%b8%a2%e0%b8%ad%e0%b8%87-%e0%b8%9f%e0%b8%a3%e0%b8%b8%e0%b9%8a%e0%b8%95-%e0%b8%9f%e0%b8%b2%e0%b8%a3%e0%b9%8c%e0%b8%a1-%e0%b8%a3%e0%b8%b1%e0%b8%99-2565/
END:VEVENT
END:VCALENDAR