BEGIN:VCALENDAR
VERSION:2.0
PRODID:-//eventon.com NONSGML v1.0//EN
CALSCALE:GREGORIAN
METHOD:PUBLISH
BEGIN:VEVENT
UID:69e82a20d937b
DTSTAMP:20260422T085336
DTSTART:20221107T102800Z
DTEND:20221107T102800Z
TZID:Pacific/Midway
LOCATION:นครราชสีมา 
SUMMARY:The Mall Korat Marathon 2022
DESCRIPTION: The Mall Korat Marathon 2022\nhttps://patrunning.com/events/the-mall-korat-marathon-2022-2/
URL:https://patrunning.com/events/the-mall-korat-marathon-2022-2/
END:VEVENT
END:VCALENDAR