BEGIN:VCALENDAR
VERSION:2.0
PRODID:-//eventon.com NONSGML v1.0//EN
CALSCALE:GREGORIAN
METHOD:PUBLISH
BEGIN:VEVENT
UID:69e7e2871fc53
DTSTAMP:20260422T034807
DTSTART:20220516T073900Z
DTEND:20220516T073900Z
TZID:Pacific/Midway
LOCATION:ระยอง 
SUMMARY:SPRC RUN FOR YOU AND SEA วิ่ง กิน เที่ยว งานเดียวครบ (ยกเลิกการจัดงาน)
DESCRIPTION: SPRC RUN FOR YOU AND SEA วิ่ง กิน เที่ยว งานเดียวครบ (ยกเลิกการจัดงาน)\nhttps://patrunning.com/events/sprc-run-for-you-and-sea-%e0%b8%a7%e0%b8%b4%e0%b9%88%e0%b8%87-%e0%b8%81%e0%b8%b4%e0%b8%99-%e0%b9%80%e0%b8%97%e0%b8%b5%e0%b9%88%e0%b8%a2%e0%b8%a7-%e0%b8%87%e0%b8%b2%e0%b8%99%e0%b9%80%e0%b8%94%e0%b8%b5/
URL:https://patrunning.com/events/sprc-run-for-you-and-sea-%e0%b8%a7%e0%b8%b4%e0%b9%88%e0%b8%87-%e0%b8%81%e0%b8%b4%e0%b8%99-%e0%b9%80%e0%b8%97%e0%b8%b5%e0%b9%88%e0%b8%a2%e0%b8%a7-%e0%b8%87%e0%b8%b2%e0%b8%99%e0%b9%80%e0%b8%94%e0%b8%b5/
END:VEVENT
END:VCALENDAR