BEGIN:VCALENDAR
VERSION:2.0
PRODID:-//eventon.com NONSGML v1.0//EN
CALSCALE:GREGORIAN
METHOD:PUBLISH
BEGIN:VEVENT
UID:69e78be38c761
DTSTAMP:20260421T213827
DTSTART:20220822T083700Z
DTEND:20220822T083700Z
TZID:Pacific/Midway
LOCATION:เชียงใหม่ 
SUMMARY:ผาช่อ ฮาล์ฟมาราธอน Pha Chor Half Marathon 2022 (ยกเลิกการแข่งขัน)
DESCRIPTION: ผาช่อ ฮาล์ฟมาราธอน Pha Chor Half Marathon 2022 (ยกเลิกการแข่งขัน)\nhttps://patrunning.com/events/%e0%b8%9c%e0%b8%b2%e0%b8%8a%e0%b9%88%e0%b8%ad-%e0%b8%ae%e0%b8%b2%e0%b8%a5%e0%b9%8c%e0%b8%9f%e0%b8%a1%e0%b8%b2%e0%b8%a3%e0%b8%b2%e0%b8%98%e0%b8%ad%e0%b8%99-pha-chor-half-marathon-2022/
URL:https://patrunning.com/events/%e0%b8%9c%e0%b8%b2%e0%b8%8a%e0%b9%88%e0%b8%ad-%e0%b8%ae%e0%b8%b2%e0%b8%a5%e0%b9%8c%e0%b8%9f%e0%b8%a1%e0%b8%b2%e0%b8%a3%e0%b8%b2%e0%b8%98%e0%b8%ad%e0%b8%99-pha-chor-half-marathon-2022/
END:VEVENT
END:VCALENDAR