BEGIN:VCALENDAR
VERSION:2.0
PRODID:-//eventon.com NONSGML v1.0//EN
CALSCALE:GREGORIAN
METHOD:PUBLISH
BEGIN:VEVENT
UID:69e7e2872f2d7
DTSTAMP:20260422T034807
DTSTART:20220620T082200Z
DTEND:20220620T082200Z
TZID:Pacific/Midway
LOCATION:ระยอง 
SUMMARY:Khao Chamao Run 2022
DESCRIPTION: Khao Chamao Run 2022\nhttps://patrunning.com/events/khao-chamao-run-2022/
URL:https://patrunning.com/events/khao-chamao-run-2022/
END:VEVENT
END:VCALENDAR