BEGIN:VCALENDAR
VERSION:2.0
PRODID:-//eventon.com NONSGML v1.0//EN
CALSCALE:GREGORIAN
METHOD:PUBLISH
BEGIN:VEVENT
UID:69e7e2352a91f
DTSTAMP:20260422T034645
DTSTART:20220905T093400Z
DTEND:20220905T093400Z
TZID:Pacific/Midway
LOCATION:ระยอง 
SUMMARY:KHAO YAIDA TRAIL BigBlue KYT 2022
DESCRIPTION: KHAO YAIDA TRAIL BigBlue KYT 2022\nhttps://patrunning.com/events/khao-yaida-trail-bigblue-kyt-2022/
URL:https://patrunning.com/events/khao-yaida-trail-bigblue-kyt-2022/
END:VEVENT
END:VCALENDAR