BEGIN:VCALENDAR
VERSION:2.0
PRODID:-//eventon.com NONSGML v1.0//EN
CALSCALE:GREGORIAN
METHOD:PUBLISH
BEGIN:VEVENT
UID:69e7fc54e1ffd
DTSTAMP:20260422T053812
DTSTART:20220919T024800Z
DTEND:20220919T024800Z
TZID:Pacific/Midway
LOCATION:ระยอง 
SUMMARY:BRH Healthy Run Mini Marathon 2022
DESCRIPTION: BRH Healthy Run Mini Marathon 2022\nhttps://patrunning.com/events/brh-healthy-run-mini-marathon-2022/
URL:https://patrunning.com/events/brh-healthy-run-mini-marathon-2022/
END:VEVENT
END:VCALENDAR