BEGIN:VCALENDAR
VERSION:2.0
PRODID:-//eventon.com NONSGML v1.0//EN
CALSCALE:GREGORIAN
METHOD:PUBLISH
BEGIN:VEVENT
UID:69e7fc668d648
DTSTAMP:20260422T053830
DTSTART:20220717T071300Z
DTEND:20220717T071300Z
TZID:Pacific/Midway
LOCATION:ระยอง 
SUMMARY:ปลวกแดง ไนท์ ฮาล์ฟ มาราธอน 2022 @ ระยอง
DESCRIPTION: ปลวกแดง ไนท์ ฮาล์ฟ มาราธอน 2022 @ ระยอง\nhttps://patrunning.com/events/%e0%b8%9b%e0%b8%a5%e0%b8%a7%e0%b8%81%e0%b9%81%e0%b8%94%e0%b8%87-%e0%b9%84%e0%b8%99%e0%b8%97%e0%b9%8c-%e0%b8%ae%e0%b8%b2%e0%b8%a5%e0%b9%8c%e0%b8%9f-%e0%b8%a1%e0%b8%b2%e0%b8%a3%e0%b8%b2%e0%b8%98/
URL:https://patrunning.com/events/%e0%b8%9b%e0%b8%a5%e0%b8%a7%e0%b8%81%e0%b9%81%e0%b8%94%e0%b8%87-%e0%b9%84%e0%b8%99%e0%b8%97%e0%b9%8c-%e0%b8%ae%e0%b8%b2%e0%b8%a5%e0%b9%8c%e0%b8%9f-%e0%b8%a1%e0%b8%b2%e0%b8%a3%e0%b8%b2%e0%b8%98/
END:VEVENT
END:VCALENDAR