BEGIN:VCALENDAR
VERSION:2.0
PRODID:-//eventon.com NONSGML v1.0//EN
CALSCALE:GREGORIAN
METHOD:PUBLISH
BEGIN:VEVENT
UID:69e79fd777097
DTSTAMP:20260421T230335
DTSTART:20220919T075700Z
DTEND:20220919T075700Z
TZID:Pacific/Midway
LOCATION:ประจวบคีรีขันธ์ 
SUMMARY:TOP RUN รันเวย์ ทะเล สามอ่าว
DESCRIPTION: TOP RUN รันเวย์ ทะเล สามอ่าว\nhttps://patrunning.com/events/top-run-%e0%b8%a3%e0%b8%b1%e0%b8%99%e0%b9%80%e0%b8%a7%e0%b8%a2%e0%b9%8c-%e0%b8%97%e0%b8%b0%e0%b9%80%e0%b8%a5-%e0%b8%aa%e0%b8%b2%e0%b8%a1%e0%b8%ad%e0%b9%88%e0%b8%b2%e0%b8%a7/
URL:https://patrunning.com/events/top-run-%e0%b8%a3%e0%b8%b1%e0%b8%99%e0%b9%80%e0%b8%a7%e0%b8%a2%e0%b9%8c-%e0%b8%97%e0%b8%b0%e0%b9%80%e0%b8%a5-%e0%b8%aa%e0%b8%b2%e0%b8%a1%e0%b8%ad%e0%b9%88%e0%b8%b2%e0%b8%a7/
END:VEVENT
END:VCALENDAR