BEGIN:VCALENDAR
VERSION:2.0
PRODID:-//eventon.com NONSGML v1.0//EN
CALSCALE:GREGORIAN
METHOD:PUBLISH
BEGIN:VEVENT
UID:69e788695760d
DTSTAMP:20260421T212337
DTSTART:20221226T082600Z
DTEND:20221226T082600Z
TZID:Pacific/Midway
LOCATION:ประจวบคีรีขันธ์ 
SUMMARY:วิ่งใต้หนุ้กจังหู้ (PEA.S1 Mini Marathon #3)
DESCRIPTION: วิ่งใต้หนุ้กจังหู้ (PEA.S1 Mini Marathon #3)\nhttps://patrunning.com/events/%e0%b8%a7%e0%b8%b4%e0%b9%88%e0%b8%87%e0%b9%83%e0%b8%95%e0%b9%89%e0%b8%ab%e0%b8%99%e0%b8%b8%e0%b9%89%e0%b8%81%e0%b8%88%e0%b8%b1%e0%b8%87%e0%b8%ab%e0%b8%b9%e0%b9%89-pea-s1-mini-marathon-3/
URL:https://patrunning.com/events/%e0%b8%a7%e0%b8%b4%e0%b9%88%e0%b8%87%e0%b9%83%e0%b8%95%e0%b9%89%e0%b8%ab%e0%b8%99%e0%b8%b8%e0%b9%89%e0%b8%81%e0%b8%88%e0%b8%b1%e0%b8%87%e0%b8%ab%e0%b8%b9%e0%b9%89-pea-s1-mini-marathon-3/
END:VEVENT
END:VCALENDAR