BEGIN:VCALENDAR
VERSION:2.0
PRODID:-//eventon.com NONSGML v1.0//EN
CALSCALE:GREGORIAN
METHOD:PUBLISH
BEGIN:VEVENT
UID:69e82a43e4d2f
DTSTAMP:20260422T085411
DTSTART:20230129T082800Z
DTEND:20230129T082800Z
TZID:Pacific/Midway
LOCATION:นครราชสีมา 
SUMMARY:วิ่งอีสานม่วนอีหลี (PEA.NE3 Mini Marathon #1)
DESCRIPTION: วิ่งอีสานม่วนอีหลี (PEA.NE3 Mini Marathon #1)\nhttps://patrunning.com/events/%e0%b8%a7%e0%b8%b4%e0%b9%88%e0%b8%87%e0%b8%ad%e0%b8%b5%e0%b8%aa%e0%b8%b2%e0%b8%99%e0%b8%a1%e0%b9%88%e0%b8%a7%e0%b8%99%e0%b8%ad%e0%b8%b5%e0%b8%ab%e0%b8%a5%e0%b8%b5-pea-ne3-mini-marathon-1/
URL:https://patrunning.com/events/%e0%b8%a7%e0%b8%b4%e0%b9%88%e0%b8%87%e0%b8%ad%e0%b8%b5%e0%b8%aa%e0%b8%b2%e0%b8%99%e0%b8%a1%e0%b9%88%e0%b8%a7%e0%b8%99%e0%b8%ad%e0%b8%b5%e0%b8%ab%e0%b8%a5%e0%b8%b5-pea-ne3-mini-marathon-1/
END:VEVENT
END:VCALENDAR