BEGIN:VCALENDAR
VERSION:2.0
PRODID:-//eventon.com NONSGML v1.0//EN
CALSCALE:GREGORIAN
METHOD:PUBLISH
BEGIN:VEVENT
UID:69e8455f4a4f5
DTSTAMP:20260422T104951
DTSTART:20220829T023500Z
DTEND:20220829T023500Z
TZID:Pacific/Midway
LOCATION:นครราชสีมา 
SUMMARY:วังน้ำเขียว มาราธอนภูเขานานาชาติ 2022
DESCRIPTION: วังน้ำเขียว มาราธอนภูเขานานาชาติ 2022\nhttps://patrunning.com/events/%e0%b8%a7%e0%b8%b1%e0%b8%87%e0%b8%99%e0%b9%89%e0%b8%b3%e0%b9%80%e0%b8%82%e0%b8%b5%e0%b8%a2%e0%b8%a7-%e0%b8%a1%e0%b8%b2%e0%b8%a3%e0%b8%b2%e0%b8%98%e0%b8%ad%e0%b8%99%e0%b8%a0%e0%b8%b9%e0%b9%80-2/
URL:https://patrunning.com/events/%e0%b8%a7%e0%b8%b1%e0%b8%87%e0%b8%99%e0%b9%89%e0%b8%b3%e0%b9%80%e0%b8%82%e0%b8%b5%e0%b8%a2%e0%b8%a7-%e0%b8%a1%e0%b8%b2%e0%b8%a3%e0%b8%b2%e0%b8%98%e0%b8%ad%e0%b8%99%e0%b8%a0%e0%b8%b9%e0%b9%80-2/
END:VEVENT
END:VCALENDAR