BEGIN:VCALENDAR
VERSION:2.0
PRODID:-//eventon.com NONSGML v1.0//EN
CALSCALE:GREGORIAN
METHOD:PUBLISH
BEGIN:VEVENT
UID:69e8452052efc
DTSTAMP:20260422T104848
DTSTART:20221120T084600Z
DTEND:20221121T084600Z
TZID:Pacific/Midway
LOCATION:นครราชสีมา 
SUMMARY:Cuesta X Trail 2022 อัลตร้าเทรลเขายายเที่ยง
DESCRIPTION: Cuesta X Trail 2022 อัลตร้าเทรลเขายายเที่ยง\nhttps://patrunning.com/events/cuesta-x-trail-2022-%e0%b8%ad%e0%b8%b1%e0%b8%a5%e0%b8%95%e0%b8%a3%e0%b9%89%e0%b8%b2%e0%b9%80%e0%b8%97%e0%b8%a3%e0%b8%a5%e0%b9%80%e0%b8%82%e0%b8%b2%e0%b8%a2%e0%b8%b2%e0%b8%a2%e0%b9%80%e0%b8%97%e0%b8%b5/
URL:https://patrunning.com/events/cuesta-x-trail-2022-%e0%b8%ad%e0%b8%b1%e0%b8%a5%e0%b8%95%e0%b8%a3%e0%b9%89%e0%b8%b2%e0%b9%80%e0%b8%97%e0%b8%a3%e0%b8%a5%e0%b9%80%e0%b8%82%e0%b8%b2%e0%b8%a2%e0%b8%b2%e0%b8%a2%e0%b9%80%e0%b8%97%e0%b8%b5/
END:VEVENT
END:VCALENDAR