BEGIN:VCALENDAR
VERSION:2.0
PRODID:-//eventon.com NONSGML v1.0//EN
CALSCALE:GREGORIAN
METHOD:PUBLISH
BEGIN:VEVENT
UID:69e84520ccf46
DTSTAMP:20260422T104848
DTSTART:20221212T090400Z
DTEND:20221212T090400Z
TZID:Pacific/Midway
LOCATION:นครราชสีมา 
SUMMARY:KORAT Loifaa Marathon 2022 # 11th
DESCRIPTION: KORAT Loifaa Marathon 2022 # 11th\nhttps://patrunning.com/events/korat-loifaa-marathon-2022-11th/
URL:https://patrunning.com/events/korat-loifaa-marathon-2022-11th/
END:VEVENT
END:VCALENDAR