BEGIN:VCALENDAR
VERSION:2.0
PRODID:-//eventon.com NONSGML v1.0//EN
CALSCALE:GREGORIAN
METHOD:PUBLISH
BEGIN:VEVENT
UID:69e7fc54e6ec0
DTSTAMP:20260422T053812
DTSTART:20220801T074100Z
DTEND:20220801T074100Z
TZID:Pacific/Midway
LOCATION:ระยอง 
SUMMARY:BANLANG RAYONG RUN 2022 วื่งสร้างบุญไหว้รอยพระพุทธบาทบ้านแลง ครั้งที่ 1
DESCRIPTION: BANLANG RAYONG RUN 2022 วื่งสร้างบุญไหว้รอยพระพุทธบาทบ้านแลง ครั้งที่ 1\nhttps://patrunning.com/events/banlang-rayong-run-2022-%e0%b8%a7%e0%b8%b7%e0%b9%88%e0%b8%87%e0%b8%aa%e0%b8%a3%e0%b9%89%e0%b8%b2%e0%b8%87%e0%b8%9a%e0%b8%b8%e0%b8%8d%e0%b9%84%e0%b8%ab%e0%b8%a7%e0%b9%89%e0%b8%a3%e0%b8%ad%e0%b8%a2/
URL:https://patrunning.com/events/banlang-rayong-run-2022-%e0%b8%a7%e0%b8%b7%e0%b9%88%e0%b8%87%e0%b8%aa%e0%b8%a3%e0%b9%89%e0%b8%b2%e0%b8%87%e0%b8%9a%e0%b8%b8%e0%b8%8d%e0%b9%84%e0%b8%ab%e0%b8%a7%e0%b9%89%e0%b8%a3%e0%b8%ad%e0%b8%a2/
END:VEVENT
END:VCALENDAR