BEGIN:VCALENDAR
VERSION:2.0
PRODID:-//eventon.com NONSGML v1.0//EN
CALSCALE:GREGORIAN
METHOD:PUBLISH
BEGIN:VEVENT
UID:69ebc76d541d4
DTSTAMP:20260425T024133
DTSTART:20220801T081600Z
DTEND:20220801T081600Z
TZID:Pacific/Midway
LOCATION:นครพนม 
SUMMARY:ริมโขงว่าซั่นนน วันมหัศจรรย์แห่งสายฝน
DESCRIPTION: ริมโขงว่าซั่นนน วันมหัศจรรย์แห่งสายฝน\nhttps://patrunning.com/events/%e0%b8%a3%e0%b8%b4%e0%b8%a1%e0%b9%82%e0%b8%82%e0%b8%87%e0%b8%a7%e0%b9%88%e0%b8%b2%e0%b8%8b%e0%b8%b1%e0%b9%88%e0%b8%99%e0%b8%99%e0%b8%99-%e0%b8%a7%e0%b8%b1%e0%b8%99%e0%b8%a1%e0%b8%ab%e0%b8%b1%e0%b8%a8/
URL:https://patrunning.com/events/%e0%b8%a3%e0%b8%b4%e0%b8%a1%e0%b9%82%e0%b8%82%e0%b8%87%e0%b8%a7%e0%b9%88%e0%b8%b2%e0%b8%8b%e0%b8%b1%e0%b9%88%e0%b8%99%e0%b8%99%e0%b8%99-%e0%b8%a7%e0%b8%b1%e0%b8%99%e0%b8%a1%e0%b8%ab%e0%b8%b1%e0%b8%a8/
END:VEVENT
END:VCALENDAR