BEGIN:VCALENDAR
VERSION:2.0
PRODID:-//eventon.com NONSGML v1.0//EN
CALSCALE:GREGORIAN
METHOD:PUBLISH
BEGIN:VEVENT
UID:69e7fc6d3382e
DTSTAMP:20260422T053837
DTSTART:20221212T075200Z
DTEND:20221212T075200Z
TZID:Pacific/Midway
LOCATION:ระยอง 
SUMMARY:KHAO ANG RAYONG CHALLENGE 2022 (เขาอ่างระยองชาเลนจ์ ครั้งที่4)
DESCRIPTION: KHAO ANG RAYONG CHALLENGE 2022 (เขาอ่างระยองชาเลนจ์ ครั้งที่4)\nhttps://patrunning.com/events/khao-ang-rayong-challenge-2022-%e0%b9%80%e0%b8%82%e0%b8%b2%e0%b8%ad%e0%b9%88%e0%b8%b2%e0%b8%87%e0%b8%a3%e0%b8%b0%e0%b8%a2%e0%b8%ad%e0%b8%87%e0%b8%8a%e0%b8%b2%e0%b9%80%e0%b8%a5%e0%b8%99%e0%b8%88/
URL:https://patrunning.com/events/khao-ang-rayong-challenge-2022-%e0%b9%80%e0%b8%82%e0%b8%b2%e0%b8%ad%e0%b9%88%e0%b8%b2%e0%b8%87%e0%b8%a3%e0%b8%b0%e0%b8%a2%e0%b8%ad%e0%b8%87%e0%b8%8a%e0%b8%b2%e0%b9%80%e0%b8%a5%e0%b8%99%e0%b8%88/
END:VEVENT
END:VCALENDAR