BEGIN:VCALENDAR
VERSION:2.0
PRODID:-//eventon.com NONSGML v1.0//EN
CALSCALE:GREGORIAN
METHOD:PUBLISH
BEGIN:VEVENT
UID:69e7f7c65b1b1
DTSTAMP:20260422T051846
DTSTART:20220821T070000Z
DTEND:20220822T070000Z
TZID:Pacific/Midway
LOCATION:ระยอง 
SUMMARY:CORE” RUNNING & TRIATHLON 2022
DESCRIPTION: CORE” RUNNING & TRIATHLON 2022\nhttps://patrunning.com/events/core-running-triathlon-2022/
URL:https://patrunning.com/events/core-running-triathlon-2022/
END:VEVENT
END:VCALENDAR