BEGIN:VCALENDAR
VERSION:2.0
PRODID:-//eventon.com NONSGML v1.0//EN
CALSCALE:GREGORIAN
METHOD:PUBLISH
BEGIN:VEVENT
UID:69ebdab264cd2
DTSTAMP:20260425T040346
DTSTART:20220919T093800Z
DTEND:20220919T093800Z
TZID:Pacific/Midway
LOCATION:นครพนม 
SUMMARY:สะออน Run 2022
DESCRIPTION: สะออน Run 2022\nhttps://patrunning.com/events/%e0%b8%aa%e0%b8%b0%e0%b8%ad%e0%b8%ad%e0%b8%99-run-2022/
URL:https://patrunning.com/events/%e0%b8%aa%e0%b8%b0%e0%b8%ad%e0%b8%ad%e0%b8%99-run-2022/
END:VEVENT
END:VCALENDAR