BEGIN:VCALENDAR
VERSION:2.0
PRODID:-//eventon.com NONSGML v1.0//EN
CALSCALE:GREGORIAN
METHOD:PUBLISH
BEGIN:VEVENT
UID:69e8451fcbd96
DTSTAMP:20260422T104847
DTSTART:20220925T094300Z
DTEND:20220926T094300Z
TZID:Pacific/Midway
LOCATION:นครราชสีมา 
SUMMARY:I-SAAN10 SUB1 CHALLENGE 2022
DESCRIPTION: I-SAAN10 SUB1 CHALLENGE 2022\nhttps://patrunning.com/events/i-saan10-sub1-challenge-2022/
URL:https://patrunning.com/events/i-saan10-sub1-challenge-2022/
END:VEVENT
END:VCALENDAR