BEGIN:VCALENDAR
VERSION:2.0
PRODID:-//eventon.com NONSGML v1.0//EN
CALSCALE:GREGORIAN
METHOD:PUBLISH
BEGIN:VEVENT
UID:69e6c0914a759
DTSTAMP:20260421T071057
DTSTART:20220925T222500Z
DTEND:20220925T222500Z
TZID:Pacific/Midway
LOCATION:สงขลา 
SUMMARY:KHOHONG ULTRA TRAIL 2022
DESCRIPTION: KHOHONG ULTRA TRAIL 2022\nhttps://patrunning.com/events/khohong-ultra-trail-2022/
URL:https://patrunning.com/events/khohong-ultra-trail-2022/
END:VEVENT
END:VCALENDAR