BEGIN:VCALENDAR
VERSION:2.0
PRODID:-//eventon.com NONSGML v1.0//EN
CALSCALE:GREGORIAN
METHOD:PUBLISH
BEGIN:VEVENT
UID:69e4e9b53b673
DTSTAMP:20260419T214157
DTSTART:20220912T084600Z
DTEND:20220912T084600Z
TZID:Pacific/Midway
LOCATION:กรุงเทพมหานคร 
SUMMARY:วิ่งติดปีก
DESCRIPTION: วิ่งติดปีก\nhttps://patrunning.com/events/%e0%b8%a7%e0%b8%b4%e0%b9%88%e0%b8%87%e0%b8%95%e0%b8%b4%e0%b8%94%e0%b8%9b%e0%b8%b5%e0%b8%81/
URL:https://patrunning.com/events/%e0%b8%a7%e0%b8%b4%e0%b9%88%e0%b8%87%e0%b8%95%e0%b8%b4%e0%b8%94%e0%b8%9b%e0%b8%b5%e0%b8%81/
END:VEVENT
END:VCALENDAR