BEGIN:VCALENDAR
VERSION:2.0
PRODID:-//eventon.com NONSGML v1.0//EN
CALSCALE:GREGORIAN
METHOD:PUBLISH
BEGIN:VEVENT
UID:69e8455cdd622
DTSTAMP:20260422T104948
DTSTART:20221009T081700Z
DTEND:20221009T081700Z
TZID:Pacific/Midway
LOCATION:นครราชสีมา 
SUMMARY:LaHan Run For Life ครั้งที่ 4
DESCRIPTION: LaHan Run For Life ครั้งที่ 4\nhttps://patrunning.com/events/lahan-run-for-life-%e0%b8%84%e0%b8%a3%e0%b8%b1%e0%b9%89%e0%b8%87%e0%b8%97%e0%b8%b5%e0%b9%88-4/
URL:https://patrunning.com/events/lahan-run-for-life-%e0%b8%84%e0%b8%a3%e0%b8%b1%e0%b9%89%e0%b8%87%e0%b8%97%e0%b8%b5%e0%b9%88-4/
END:VEVENT
END:VCALENDAR