BEGIN:VCALENDAR
VERSION:2.0
PRODID:-//eventon.com NONSGML v1.0//EN
CALSCALE:GREGORIAN
METHOD:PUBLISH
BEGIN:VEVENT
UID:69e831558768e
DTSTAMP:20260422T092421
DTSTART:20221128T073500Z
DTEND:20221128T073500Z
TZID:Pacific/Midway
LOCATION:ระยอง 
SUMMARY:RUN FOR KIDS ครั้งที่ 7
DESCRIPTION: RUN FOR KIDS ครั้งที่ 7\nhttps://patrunning.com/events/run-for-kids-%e0%b8%84%e0%b8%a3%e0%b8%b1%e0%b9%89%e0%b8%87%e0%b8%97%e0%b8%b5%e0%b9%88-7/
URL:https://patrunning.com/events/run-for-kids-%e0%b8%84%e0%b8%a3%e0%b8%b1%e0%b9%89%e0%b8%87%e0%b8%97%e0%b8%b5%e0%b9%88-7/
END:VEVENT
END:VCALENDAR