BEGIN:VCALENDAR
VERSION:2.0
PRODID:-//eventon.com NONSGML v1.0//EN
CALSCALE:GREGORIAN
METHOD:PUBLISH
BEGIN:VEVENT
UID:69e8168c5eaab
DTSTAMP:20260422T073004
DTSTART:20220905T083800Z
DTEND:20220905T083800Z
TZID:Pacific/Midway
LOCATION:ระยอง 
SUMMARY:PAILOM MINIMARATHON
DESCRIPTION: PAILOM MINIMARATHON\nhttps://patrunning.com/events/pailom-minimarathon/
URL:https://patrunning.com/events/pailom-minimarathon/
END:VEVENT
END:VCALENDAR