BEGIN:VCALENDAR
VERSION:2.0
PRODID:-//eventon.com NONSGML v1.0//EN
CALSCALE:GREGORIAN
METHOD:PUBLISH
BEGIN:VEVENT
UID:69e845078849f
DTSTAMP:20260422T104823
DTSTART:20221010T081900Z
DTEND:20221010T081900Z
TZID:Pacific/Midway
LOCATION:นครราชสีมา 
SUMMARY:Khonburi Run 2022” ครั้งที่ 1
DESCRIPTION: Khonburi Run 2022” ครั้งที่ 1\nhttps://patrunning.com/events/khonburi-run-2022-%e0%b8%84%e0%b8%a3%e0%b8%b1%e0%b9%89%e0%b8%87%e0%b8%97%e0%b8%b5%e0%b9%88-1/
URL:https://patrunning.com/events/khonburi-run-2022-%e0%b8%84%e0%b8%a3%e0%b8%b1%e0%b9%89%e0%b8%87%e0%b8%97%e0%b8%b5%e0%b9%88-1/
END:VEVENT
END:VCALENDAR