BEGIN:VCALENDAR
VERSION:2.0
PRODID:-//eventon.com NONSGML v1.0//EN
CALSCALE:GREGORIAN
METHOD:PUBLISH
BEGIN:VEVENT
UID:69e845730324a
DTSTAMP:20260422T105011
DTSTART:20221111T090500Z
DTEND:20221111T090500Z
TZID:Pacific/Midway
LOCATION:นครราชสีมา 
SUMMARY:เดิน-วิ่ง ชมงิ้ว ปักธงชัย ครั้งที่ 1
DESCRIPTION: เดิน-วิ่ง ชมงิ้ว ปักธงชัย ครั้งที่ 1\nhttps://patrunning.com/events/%e0%b9%80%e0%b8%94%e0%b8%b4%e0%b8%99-%e0%b8%a7%e0%b8%b4%e0%b9%88%e0%b8%87-%e0%b8%8a%e0%b8%a1%e0%b8%87%e0%b8%b4%e0%b9%89%e0%b8%a7-%e0%b8%9b%e0%b8%b1%e0%b8%81%e0%b8%98%e0%b8%87%e0%b8%8a%e0%b8%b1/
URL:https://patrunning.com/events/%e0%b9%80%e0%b8%94%e0%b8%b4%e0%b8%99-%e0%b8%a7%e0%b8%b4%e0%b9%88%e0%b8%87-%e0%b8%8a%e0%b8%a1%e0%b8%87%e0%b8%b4%e0%b9%89%e0%b8%a7-%e0%b8%9b%e0%b8%b1%e0%b8%81%e0%b8%98%e0%b8%87%e0%b8%8a%e0%b8%b1/
END:VEVENT
END:VCALENDAR