BEGIN:VCALENDAR
VERSION:2.0
PRODID:-//eventon.com NONSGML v1.0//EN
CALSCALE:GREGORIAN
METHOD:PUBLISH
BEGIN:VEVENT
UID:69e8318349f73
DTSTAMP:20260422T092507
DTSTART:20221121T084900Z
DTEND:20221121T084900Z
TZID:Pacific/Midway
LOCATION:ระยอง 
SUMMARY:เดิน-วิ่งการกุศล RUN FOR SCHOOL : “122 ปี ศรีสังวาลย์ วิ่งขึ้นเขา เฝ้าสมเด็จย่า”
DESCRIPTION: เดิน-วิ่งการกุศล RUN FOR SCHOOL : “122 ปี ศรีสังวาลย์ วิ่งขึ้นเขา เฝ้าสมเด็จย่า”\nhttps://patrunning.com/events/%e0%b9%80%e0%b8%94%e0%b8%b4%e0%b8%99-%e0%b8%a7%e0%b8%b4%e0%b9%88%e0%b8%87%e0%b8%81%e0%b8%b2%e0%b8%a3%e0%b8%81%e0%b8%b8%e0%b8%a8%e0%b8%a5-run-for-school-122-%e0%b8%9b%e0%b8%b5-%e0%b8%a8%e0%b8%a3/
URL:https://patrunning.com/events/%e0%b9%80%e0%b8%94%e0%b8%b4%e0%b8%99-%e0%b8%a7%e0%b8%b4%e0%b9%88%e0%b8%87%e0%b8%81%e0%b8%b2%e0%b8%a3%e0%b8%81%e0%b8%b8%e0%b8%a8%e0%b8%a5-run-for-school-122-%e0%b8%9b%e0%b8%b5-%e0%b8%a8%e0%b8%a3/
END:VEVENT
END:VCALENDAR